BEGIN:VCALENDAR
VERSION:2.0
PRODID:-//Nishnawbe Aski Nation - ECPv6.15.17.1//NONSGML v1.0//EN
CALSCALE:GREGORIAN
METHOD:PUBLISH
X-WR-CALNAME:Nishnawbe Aski Nation
X-ORIGINAL-URL:https://www.nan.ca
X-WR-CALDESC:Events for Nishnawbe Aski Nation
REFRESH-INTERVAL;VALUE=DURATION:PT1H
X-Robots-Tag:noindex
X-PUBLISHED-TTL:PT1H
BEGIN:VTIMEZONE
TZID:America/Toronto
BEGIN:DAYLIGHT
TZOFFSETFROM:-0500
TZOFFSETTO:-0400
TZNAME:EDT
DTSTART:20210314T070000
END:DAYLIGHT
BEGIN:STANDARD
TZOFFSETFROM:-0400
TZOFFSETTO:-0500
TZNAME:EST
DTSTART:20211107T060000
END:STANDARD
BEGIN:DAYLIGHT
TZOFFSETFROM:-0500
TZOFFSETTO:-0400
TZNAME:EDT
DTSTART:20220313T070000
END:DAYLIGHT
BEGIN:STANDARD
TZOFFSETFROM:-0400
TZOFFSETTO:-0500
TZNAME:EST
DTSTART:20221106T060000
END:STANDARD
BEGIN:DAYLIGHT
TZOFFSETFROM:-0500
TZOFFSETTO:-0400
TZNAME:EDT
DTSTART:20230312T070000
END:DAYLIGHT
BEGIN:STANDARD
TZOFFSETFROM:-0400
TZOFFSETTO:-0500
TZNAME:EST
DTSTART:20231105T060000
END:STANDARD
END:VTIMEZONE
BEGIN:VEVENT
DTSTART;TZID=America/Toronto:20220510T080000
DTEND;TZID=America/Toronto:20220512T170000
DTSTAMP:20260421T081144
CREATED:20220322T161123Z
LAST-MODIFIED:20220512T212355Z
UID:3697-1652169600-1652374800@www.nan.ca
SUMMARY:NAN Chiefs Spring Assembly
DESCRIPTION:Watch Spring Chiefs Assembly Live Here!\n\n\n\nDownload Agenda\n\n\n\n\n\n\n\n\n \n\n\n\nThe NAN Chiefs Spring Assembly has been scheduled for May 10\, 11\, & 12\, 2022. This hybrid meeting will take place at the Delta Hotel in Thunder Bay\, ON. \n\n\n\nCONFIRMATIONS / REGISTRATIONRegistration is now open Chiefs/Proxies are asked to complete a registration form to confirm his/her attendance on the link provided here: Click here for registration link. \n\n\n\nPROXIESIf you are unable to attend\, a proxy may be sent. Proxy notice must be sent in advance on letterhead and signed by the Chief and Council or a quorum of the Council. This letter will ensure that the proxy has full conference privileges to act on your behalf. The designated proxy should bring the original letter to the meeting. A sample proxy letter is attached.Please send proxy letters to the attention of Miranda Echum via email mechum@nan.ca or by fax (807)-623-7730. \n\n\n\n\nDownload Proxy Letter\n\n\n\n\nTRAVEL ARRANGEMENTSTravel will be covered for Chiefs/Proxies. Travel days are Monday May 9\, 2022\, and Friday May 13\, 2022. Air travel will be booked by NAN staff or for the use of a personal vehicle; mileage will be covered and based on the NAN rate. As required by NAN Chiefs Finance Committee\, the most economical arrangements will be made to keep the overall costs to a minimum. \n\n\n\nACCOMMODATIONSAccommodations for Chiefs/Proxies\, Elders\, Women & Youth Councils\, and guests of NAN will be booked by NAN Staff. \n\n\n\nNAN ELDERS\, WOMEN AND YOUTH COUNCILSThe NAN Elders Council\, Women’s Council and the Oshkaatisak (Young Peoples) Council are invited to attend. NAN will cover their travel expenses and accommodations. NAN staff will contact Elders\, Women and Oshkaatisak members directly to register and make arrangements.First Nations and Tribal Councils bringing additional Elders are responsible for all expenses incurred including travel\, accommodations\, and honorarium. \n\n\n\nElders and Oshkaatisak Council’s registration contact is Kelsey Demontigny\, she can be reached by email kdemontigny@nan.on.ca or phone at (807)-620-9954 /1-(800)-465-9952. \n\n\n\nWomen’s Council registration contact is Jamilee Wanakamik she can be reached at jwanakamik@nan.ca or by phone at 1-(800)-465-9952. \n\n\n\nRESOLUTIONS-DEADLINE: FRIDAY April 29\, 2022Resolutions to be considered at the Assembly can be forwarded electronically to Luke Hunter at lhunter@nan.on.ca or via fax at (807)623-7730. \n\n\n\nOPEN CALL TO CHIEFS FOR AGENDA ITEMS – DEADLINE: FRIDAY April 29\, 2022. \n\n\n\nIf there are any priority issues or items that you wish to discuss at the NAN Chiefs Spring Assembly\, please contact Melinda Meekis by email mmeekis@nan.on.ca or by phone at (807)-708-3173/ 1-(800)-465-9952. Open call for agenda items is for Chiefs only. \n\n\n\nIf you require any additional information or require clarification\, please contact Charlene Yerxa by email cyerxa@nan.on.ca or phone at (807)-625-4914 /1-(800)-465-9952.
URL:https://www.nan.ca/event/nan-chiefs-spring-assembly/
END:VEVENT
END:VCALENDAR